BEGIN:VCALENDAR
VERSION:2.0
PRODID:-//喫茶 虫の音 - ECPv5.9.1//NONSGML v1.0//EN
CALSCALE:GREGORIAN
METHOD:PUBLISH
X-WR-CALNAME:喫茶 虫の音
X-ORIGINAL-URL:https://mushinone.com
X-WR-CALDESC:喫茶 虫の音 のイベント
BEGIN:VTIMEZONE
TZID:Asia/Tokyo
BEGIN:STANDARD
TZOFFSETFROM:+0900
TZOFFSETTO:+0900
TZNAME:JST
DTSTART:20250101T000000
END:STANDARD
END:VTIMEZONE
BEGIN:VEVENT
DTSTART;VALUE=DATE:20250809
DTEND;VALUE=DATE:20250810
DTSTAMP:20260420T033800
CREATED:20250801T163031Z
LAST-MODIFIED:20250801T163031Z
UID:4475-1754697600-1754783999@mushinone.com
SUMMARY:8月9日(土)　虫の音ライブ　佐藤正春、犬風、イケクソン、カイト
DESCRIPTION:8月9日(土)　虫の音ライブ \n佐藤正春、犬風、イケクソン、カイト
URL:https://mushinone.com/event/8%e6%9c%889%e6%97%a5%e5%9c%9f%e3%80%80%e8%99%ab%e3%81%ae%e9%9f%b3%e3%83%a9%e3%82%a4%e3%83%96%e3%80%80%e4%bd%90%e8%97%a4%e6%ad%a3%e6%98%a5%e3%80%81%e7%8a%ac%e9%a2%a8%e3%80%81%e3%82%a4%e3%82%b1/
END:VEVENT
END:VCALENDAR