BEGIN:VCALENDAR
VERSION:2.0
PRODID:-//喫茶 虫の音 - ECPv5.9.1//NONSGML v1.0//EN
CALSCALE:GREGORIAN
METHOD:PUBLISH
X-WR-CALNAME:喫茶 虫の音
X-ORIGINAL-URL:https://mushinone.com
X-WR-CALDESC:喫茶 虫の音 のイベント
BEGIN:VTIMEZONE
TZID:Asia/Tokyo
BEGIN:STANDARD
TZOFFSETFROM:+0900
TZOFFSETTO:+0900
TZNAME:JST
DTSTART:20210101T000000
END:STANDARD
END:VTIMEZONE
BEGIN:VEVENT
DTSTART;TZID=Asia/Tokyo:20211002T190000
DTEND;TZID=Asia/Tokyo:20211002T220000
DTSTAMP:20260421T173807
CREATED:20210922T040339Z
LAST-MODIFIED:20210922T041045Z
UID:220-1633201200-1633212000@mushinone.com
SUMMARY:【店主ライブ】前橋クールフール
DESCRIPTION:～ RRR＋J ＋ゴボ企画 ～ \n小此木生死\nサトチエ\nRRR＋J\n13th VINYL Q \nOPEN 19:00 / START 19:30\n¥2\,000/Drink別
URL:https://mushinone.com/event/211002/
LOCATION:前橋クールフール\, 5-2-10　SATOビル2F\, 前橋市千代田町\, 群馬県
CATEGORIES:店主ライブ予定
END:VEVENT
END:VCALENDAR