BEGIN:VCALENDAR
VERSION:2.0
PRODID:-//喫茶 虫の音 - ECPv5.9.1//NONSGML v1.0//EN
CALSCALE:GREGORIAN
METHOD:PUBLISH
X-WR-CALNAME:喫茶 虫の音
X-ORIGINAL-URL:https://mushinone.com
X-WR-CALDESC:喫茶 虫の音 のイベント
BEGIN:VTIMEZONE
TZID:Asia/Tokyo
BEGIN:STANDARD
TZOFFSETFROM:+0900
TZOFFSETTO:+0900
TZNAME:JST
DTSTART:20250101T000000
END:STANDARD
END:VTIMEZONE
BEGIN:VEVENT
DTSTART;VALUE=DATE:20250815
DTEND;VALUE=DATE:20250816
DTSTAMP:20260419T232530
CREATED:20250814T030515Z
LAST-MODIFIED:20250814T030515Z
UID:4535-1755216000-1755302399@mushinone.com
SUMMARY:休み
DESCRIPTION:
URL:https://mushinone.com/event/%e4%bc%91%e3%81%bf-212/
CATEGORIES:休み
END:VEVENT
END:VCALENDAR